BEGIN:VCALENDAR
VERSION:2.0
PRODID:-//ChamberMaster//Event Calendar 2.0//EN
METHOD:PUBLISH
X-PUBLISHED-TTL:P3D
REFRESH-INTERVAL:P3D
CALSCALE:GREGORIAN
BEGIN:VEVENT
DTSTART:20110922T233000Z
DTEND:20110923T010000Z
X-MICROSOFT-CDO-ALLDAYEVENT:FALSE
SUMMARY:Business After Hours
DESCRIPTION:Business After Hours\n\n	Thursday\, September 22\, 2011 from 5:30-7pm\n\n	Host: Royal Wholesale Electric\n\n	Location: 332 South 1200 West\, Tooele\n\n	   Great Networking Opportunity! No Charge for this Event! \n\n	BRING YOUR BUSINESS CARD AND ENTER TO WIN A PRIZE. IF YOU WOULD LIKE\, PLEASE BRING A PROMOTIONAL ITEM FROM YOUR COMPANY TO GIVE AWAY AS A PRIZE.
X-ALT-DESC;FMTTYPE=text/html:<p style="text-align: center">\n	<span style="font-family: comic sans ms"><span style="font-size: 22px">Business After Hours<br />\n	Thursday\, September 22\, 2011 from 5:30-7pm<br />\n	Host:&nbsp\;Royal Wholesale Electric<br />\n	Location:&nbsp\;332 South 1200 West\, Tooele<br />\n	<span style="font-family: 'californian fb'\, 'serif'\; color: black\; font-size: 13.5pt\; mso-bidi-font-size: 11.0pt\; mso-fareast-font-family: 'times new roman'\; mso-bidi-font-family: 'times new roman'\; mso-bidi-font-weight: bold"><span _fck_bookmark="1" style="display: none">&nbsp\;</span><span _fck_bookmark="1" style="display: none">&nbsp\;</span><span _fck_bookmark="1" style="display: none">&nbsp\;</span>Great Networking Opportunity! No Charge for this Event! </span><br />\n	<b><span style="font-family: 'californian fb'\, 'serif'\; color: black\; font-size: 13.5pt\; mso-bidi-font-size: 11.0pt\; mso-fareast-font-family: 'times new roman'\; mso-bidi-font-family: 'times new roman'">BRING YOUR BUSINESS CARD AND ENTER TO WIN A PRIZE. IF YOU WOULD LIKE\, PLEASE BRING A PROMOTIONAL ITEM FROM YOUR COMPANY TO GIVE AWAY AS A PRIZE.<span _fck_bookmark="1" style="display: none">&nbsp\;</span><span _fck_bookmark="1" style="display: none">&nbsp\;</span><span _fck_bookmark="1" style="display: none">&nbsp\;</span><span _fck_bookmark="1" style="display: none">&nbsp\;</span><span _fck_bookmark="1" style="display: none">&nbsp\;</span><span _fck_bookmark="1" style="display: none">&nbsp\;</span><span _fck_bookmark="1" style="display: none">&nbsp\;</span><span _fck_bookmark="1" style="display: none">&nbsp\;</span><span _fck_bookmark="1" style="display: none">&nbsp\;</span><span _fck_bookmark="1" style="display: none">&nbsp\;</span><span _fck_bookmark="1" style="display: none">&nbsp\;</span><span _fck_bookmark="1" style="display: none">&nbsp\;</span><span _fck_bookmark="1" style="display: none">&nbsp\;</span><span _fck_bookmark="1" style="display: none">&nbsp\;</span><span _fck_bookmark="1" style="display: none">&nbsp\;</span><span _fck_bookmark="1" style="display: none">&nbsp\;</span><span _fck_bookmark="1" style="display: none">&nbsp\;</span><span _fck_bookmark="1" style="display: none">&nbsp\;</span><span _fck_bookmark="1" style="display: none">&nbsp\;</span><span _fck_bookmark="1" style="display: none">&nbsp\;</span></span></b><span _fck_bookmark="1" style="display: none">&nbsp\;</span><span _fck_bookmark="1" style="display: none">&nbsp\;</span><span _fck_bookmark="1" style="display: none">&nbsp\;</span><span _fck_bookmark="1" style="display: none">&nbsp\;</span><span _fck_bookmark="1" style="display: none">&nbsp\;</span><span _fck_bookmark="1" style="display: none">&nbsp\;</span><span _fck_bookmark="1" style="display: none">&nbsp\;</span><span _fck_bookmark="1" style="display: none">&nbsp\;</span><span _fck_bookmark="1" style="display: none">&nbsp\;</span><span _fck_bookmark="1" style="display: none">&nbsp\;</span><span _fck_bookmark="1" style="display: none">&nbsp\;</span><span _fck_bookmark="1" style="display: none">&nbsp\;</span><span _fck_bookmark="1" style="display: none">&nbsp\;</span><span _fck_bookmark="1" style="display: none">&nbsp\;</span><span _fck_bookmark="1" style="display: none">&nbsp\;</span><span _fck_bookmark="1" style="display: none">&nbsp\;</span></span></span></p>\n
LOCATION:
UID:e.125.3863
SEQUENCE:3
DTSTAMP:20260422T044550Z
URL:https://business.tooelechamber.com/events/details/business-after-hours-09-22-2011-3863
END:VEVENT

END:VCALENDAR
