BEGIN:VCALENDAR
VERSION:2.0
PRODID:-//ChamberMaster//Event Calendar 2.0//EN
METHOD:PUBLISH
X-PUBLISHED-TTL:P3D
REFRESH-INTERVAL:P3D
CALSCALE:GREGORIAN
BEGIN:VEVENT
DTSTART;VALUE=DATE:20090924
DTEND;VALUE=DATE:20090925
TRANSP:TRANSPARENT
X-MICROSOFT-CDO-ALLDAYEVENT:TRUE
SUMMARY:Business After Hours
DESCRIPTION:Business After HoursThursday\, September 24th 5:30- 7 pmMillpond Spa & retreat25 Plaza CourtNo charge for this eventGreat Networking Opportunitybring your business card to enter in the drawing for prizes. If you would like\, please bring a prize\, something to help promote your business.
X-ALT-DESC;FMTTYPE=text/html:<div><div align="center"><u><b>Business After Hours</b></u></div><div align="center">Thursday\,&nbsp\;September 24th 5:30- 7 pm</div><div align="center">Millpond Spa &amp\; retreat</div><div align="center">25 Plaza Court</div><div align="center">No charge for this event</div><div align="center">Great Networking Opportunity</div><div align="center">bring your business card to enter in the drawing for prizes. If you would like\, please bring a prize\, something to help promote your business.</div></div>
LOCATION:
UID:e.125.2574
SEQUENCE:3
DTSTAMP:20260423T181845Z
URL:https://business.tooelechamber.com/events/details/business-after-hours-09-24-2009-2574
END:VEVENT

END:VCALENDAR
