BEGIN:VCALENDAR
VERSION:2.0
PRODID:-//ChamberMaster//Event Calendar 2.0//EN
METHOD:PUBLISH
X-PUBLISHED-TTL:P3D
REFRESH-INTERVAL:P3D
CALSCALE:GREGORIAN
BEGIN:VEVENT
DTSTART:20101119T003000Z
DTEND:20101119T020000Z
X-MICROSOFT-CDO-ALLDAYEVENT:FALSE
SUMMARY:Business After Hours
DESCRIPTION:Business After Hours \n\n	Thursday\, November 18\, 2010 from 5:30-7pm\n\n	Host: Wireless Beehive \n\n	2000 Sunset Road\, Lake Point\n\n	GREAT networking opportunity!\n\n	NO CHARGE for this event!!\n\n	Please bring a business card to be entered into the drawing and/or bring a promotional item from your business to be used as a prize.
X-ALT-DESC;FMTTYPE=text/html:<p style="text-align: center">\n	<span style="font-size: 22px"><strong><u>Business After Hours </u></strong><br />\n	Thursday\,&nbsp\;November 18\, 2010&nbsp\;from 5:30-7pm<br />\n	Host:&nbsp\;Wireless Beehive&nbsp\;<br />\n	2000 Sunset Road\, Lake Point<br />\n	GREAT networking opportunity!<br />\n	NO CHARGE for this event!!<br />\n	Please bring a business card to be entered into&nbsp\;the drawing and/or bring a promotional item from your business to be used as a prize. <span _fck_bookmark="1" style="display: none">&nbsp\;</span></span></p>\n
LOCATION:
UID:e.125.3290
SEQUENCE:3
DTSTAMP:20260422T220037Z
URL:https://business.tooelechamber.com/events/details/business-after-hours-11-18-2010-3290
END:VEVENT

END:VCALENDAR
