BEGIN:VCALENDAR
VERSION:2.0
PRODID:-//ChamberMaster//Event Calendar 2.0//EN
METHOD:PUBLISH
X-PUBLISHED-TTL:P3D
REFRESH-INTERVAL:P3D
CALSCALE:GREGORIAN
BEGIN:VEVENT
DTSTART:20140327T233000Z
DTEND:20140328T010000Z
X-MICROSOFT-CDO-ALLDAYEVENT:FALSE
SUMMARY:Business After Hours- New Hope House
DESCRIPTION:Business After Hours- The New Hope House \n\nThursday\, March 27th\, 2014\n\n5:30-7:00pm\n\n154 South Main Street\, Tooele
X-ALT-DESC;FMTTYPE=text/html:<strong><span style="color:#008000\;"><span style="font-size:22px\;">Business After Hours- The New Hope House&nbsp\;<br />\nThursday\, March 27th\, 2014<br />\n5:30-7:00pm<br />\n154 South Main Street\, Tooele&nbsp\;</span></span></strong>
LOCATION:
UID:e.125.5066
SEQUENCE:3
DTSTAMP:20260420T021436Z
URL:https://business.tooelechamber.com/events/details/business-after-hours-new-hope-house-03-27-2014-5066
END:VEVENT

END:VCALENDAR
