BEGIN:VCALENDAR
VERSION:2.0
PRODID:-//ChamberMaster//Event Calendar 2.0//EN
METHOD:PUBLISH
X-PUBLISHED-TTL:P3D
REFRESH-INTERVAL:P3D
CALSCALE:GREGORIAN
BEGIN:VEVENT
DTSTART:20110203T150000Z
DTEND:20110204T000000Z
X-MICROSOFT-CDO-ALLDAYEVENT:FALSE
SUMMARY:Business Continuity and Emergency Management
DESCRIPTION:MGT 381: Business Continuity and Emergency Management\n\n	Thursday\, February 3\, 2011 from 8am-5pm\n\n	Sandy City Emergency Management hosts at\n\n	Sandy City Hall - 3rd Floor Multipurpose Romm\n\n	10000 Centennial Parkway\, Sandy\n\n	Registration Deadline January 20\, 2011\n\n	Prerequisites: US Citizenship\n\n	For more information about course content\, contact Joshua Malone at 479-619-4170 or jmalone4@nwacc.edu
X-ALT-DESC;FMTTYPE=text/html:<p style="text-align: center">\n	<span style="font-size: 18px">MGT 381: Business Continuity and Emergency Management<br />\n	Thursday\, February 3\, 2011 from 8am-5pm<br />\n	Sandy City Emergency Management hosts at<br />\n	Sandy City Hall - 3rd Floor Multipurpose Romm<br />\n	10000 Centennial Parkway\, Sandy<br />\n	Registration Deadline January 20\, 2011<br />\n	Prerequisites: US Citizenship<br />\n	For more information about course content\, contact Joshua Malone at 479-619-4170 or <a href="mailto:jmalone4@nwacc.edu">jmalone4@nwacc.edu</a> </span></p>\n
LOCATION:
UID:e.125.3598
SEQUENCE:3
DTSTAMP:20260422T155819Z
URL:https://business.tooelechamber.com/events/details/business-continuity-and-emergency-management-02-03-2011-3598
END:VEVENT

END:VCALENDAR
