BEGIN:VCALENDAR
VERSION:2.0
PRODID:-//ChamberMaster//Event Calendar 2.0//EN
METHOD:PUBLISH
X-PUBLISHED-TTL:P3D
REFRESH-INTERVAL:P3D
CALSCALE:GREGORIAN
BEGIN:VEVENT
DTSTART:20130911T220000Z
DTEND:20130912T020000Z
X-MICROSOFT-CDO-ALLDAYEVENT:FALSE
SUMMARY:Business Expo
DESCRIPTION:Business Expo & Taste of Tooele\n\n	Wednesday\, September 11\, 2012\n\n	4 pm to 8 pm\n\n	Tooele City Park\n\n	200 West Vine Street\, Tooele\n\n	Business Expo FREE\n\n	Taste of Tooele($5 adults & $3 kids)Click here to edit...
X-ALT-DESC;FMTTYPE=text/html:<div style="color: gray">\n	<span style="color: #800080"><u><span style="font-size: 20px"><strong>Business Expo &amp\; Taste of Tooele</strong></span></u></span><br />\n	<span style="font-size: 20px">Wednesday\, September 11\, 2012<br />\n	4 pm to 8 pm<br />\n	Tooele City Park<br />\n	200 West Vine Street\, Tooele<br />\n	Business Expo FREE<br />\n	Taste of Tooele($5 adults &amp\; $3 kids)</span>Click here to edit...</div>\n
LOCATION:
UID:e.125.5005
SEQUENCE:3
DTSTAMP:20260420T113502Z
URL:https://business.tooelechamber.com/events/details/business-expo-09-11-2013-5005
END:VEVENT

END:VCALENDAR
