BEGIN:VCALENDAR
VERSION:2.0
PRODID:-//ChamberMaster//Event Calendar 2.0//EN
METHOD:PUBLISH
X-PUBLISHED-TTL:P3D
REFRESH-INTERVAL:P3D
CALSCALE:GREGORIAN
BEGIN:VEVENT
DTSTART;VALUE=DATE:20080909
DTEND;VALUE=DATE:20080910
TRANSP:TRANSPARENT
X-MICROSOFT-CDO-ALLDAYEVENT:TRUE
SUMMARY:Business Expo/ Taste of Tooele
DESCRIPTION:Tuesday\, September 9th\n Veteran's Memorial Park\n Vine & Main  \n 435-882-0690\n Deadline is Friday\, August 29th Click here for Registration Form\n Booths Still Available  Business-to-Business\n 2-3 pm\n Community\n 3-7 pm
X-ALT-DESC;FMTTYPE=text/html:<div align="center"><font face="Times New Roman" size="5">&nbsp\;<font face="Arial"> </font><strong><font face="Arial">Tues</font><a><font face="Arial">day\, September 9th<br />&nbsp\;Veteran's Memorial Park<br />&nbsp\;Vine &amp\; Main&nbsp\; <br />&nbsp\;435-882-0690<br />&nbsp\;Deadline is Friday\, August 29th&nbsp\;</font></a></strong></font></div><div align="center"><font face="Times New Roman" size="5"><strong><a href="http://www.2wheelah.com/business%20expo%20registration%20form.pdf"><font face="Arial">Click here for Registration Form</font></a><br /><font face="Arial">&nbsp\;Booths Still Available&nbsp\;</font></strong></font></div><div align="center"><font face="Times New Roman" size="5">&nbsp\;<strong>Business-to-Business<br />&nbsp\;2-3 pm<br />&nbsp\;Community<br />&nbsp\;3-7 pm</strong></font></div>
LOCATION:
UID:e.125.217
SEQUENCE:3
DTSTAMP:20260424T141354Z
URL:https://business.tooelechamber.com/events/details/business-expo-taste-of-tooele-09-09-2008-217
END:VEVENT

END:VCALENDAR
