BEGIN:VCALENDAR
VERSION:2.0
PRODID:-//ChamberMaster//Event Calendar 2.0//EN
METHOD:PUBLISH
X-PUBLISHED-TTL:P3D
REFRESH-INTERVAL:P3D
CALSCALE:GREGORIAN
BEGIN:VEVENT
DTSTART;VALUE=DATE:20120912
DTEND;VALUE=DATE:20120913
TRANSP:TRANSPARENT
X-MICROSOFT-CDO-ALLDAYEVENT:TRUE
SUMMARY:Business Expo/ Taste of Tooele
DESCRIPTION:Business Expo & Taste of Tooele\n\nWednesday\, September 12\, 2012\n\n4 pm to 8 pm\n\nTooele City Park\n\n200 West Vine Street\, Tooele\n\nBusiness Expo FREE\n\nTaste of Tooele($5 adults & $3 kids)
X-ALT-DESC;FMTTYPE=text/html:<span style="color: #800080"><u><span style="font-size: 20px"><strong>Business Expo &amp\; Taste of Tooele</strong></span></u></span><br />\n<span style="font-size: 20px">Wednesday\, September 12\, 2012<br />\n4 pm to 8 pm<br />\nTooele City Park<br />\n200 West Vine Street\, Tooele<br />\nBusiness Expo FREE<br />\nTaste of Tooele($5 adults &amp\; $3 kids)</span>
LOCATION:
UID:e.125.4661
SEQUENCE:3
DTSTAMP:20260421T090955Z
URL:https://business.tooelechamber.com/events/details/business-expo-taste-of-tooele-09-12-2012-4661
END:VEVENT

END:VCALENDAR
