BEGIN:VCALENDAR
VERSION:2.0
PRODID:-//ChamberMaster//Event Calendar 2.0//EN
METHOD:PUBLISH
X-PUBLISHED-TTL:P3D
REFRESH-INTERVAL:P3D
CALSCALE:GREGORIAN
BEGIN:VEVENT
DTSTART:20130810T000000Z
DTEND:20130810T020000Z
X-MICROSOFT-CDO-ALLDAYEVENT:FALSE
SUMMARY:Chalk Art Contest
DESCRIPTION:Chalk Art Contest Begins at 6:00pm\n\n55 North 200 West\n\nSwimming Pool Park.\n\nFree for families of all ages!\n\n\n\nJudging will start at 8:00pm\n\nAward time: 8:30pm after Exit 99 Concert.\n\nNo pre-registration is requested. Just register the night of the event.
X-ALT-DESC;FMTTYPE=text/html:<span style="font-size: 18px">Chalk Art Contest Begins at 6:00pm<br />\n55 North 200 West<br />\nSwimming Pool Park.<br />\nFree for families of all ages!<br />\n<br />\nJudging will start at 8:00pm<br />\nAward time: 8:30pm after Exit 99 Concert.<br />\nNo pre-registration is requested. Just register the night of the event.</span>
LOCATION:
UID:e.125.5039
SEQUENCE:3
DTSTAMP:20260420T133111Z
URL:https://business.tooelechamber.com/events/details/chalk-art-contest-08-09-2013-5039
END:VEVENT

END:VCALENDAR
