BEGIN:VCALENDAR
VERSION:2.0
PRODID:-//ChamberMaster//Event Calendar 2.0//EN
METHOD:PUBLISH
X-PUBLISHED-TTL:P3D
REFRESH-INTERVAL:P3D
CALSCALE:GREGORIAN
BEGIN:VEVENT
DTSTART;VALUE=DATE:20100618
DTEND;VALUE=DATE:20100619
TRANSP:TRANSPARENT
X-MICROSOFT-CDO-ALLDAYEVENT:TRUE
SUMMARY:Chamber Annual Golf Tournament
DESCRIPTION:Tooele County Chamber of Commerce \nAnnual Golf TournamentFriday\, June 18\, 2010\nOquirrh Hills Golf Course 1255 East Vine Street\, Tooele Registration starts @ 7amTournament Begins @ 8am The Chamber Office will be CLOSED!Any questions or want to sign-up your team Call The Chamber Office (435)882-0690For a registration form\, visit our website www.tooelechamber.com
X-ALT-DESC;FMTTYPE=text/html:<div align="center"><font size="3"><font size="1" face="Frutiger-LightCn"><font size="1" face="Frutiger-LightCn"><font size="4">Tooele County Chamber of Commerce <br />Annual&nbsp\;Golf Tournament</font></font></font></font></div><div align="center"><font size="3"><font size="1" face="Frutiger-LightCn"><font size="1" face="Frutiger-LightCn"><font size="4">Friday\, June 18\, 2010<br />Oquirrh Hills Golf Course </font></font></font></font></div><div align="center"><font size="3"><font size="1" face="Frutiger-LightCn"><font size="1" face="Frutiger-LightCn"><font size="4">1255 East Vine Street\, Tooele </font></font></font></font></div><div align="center"><font size="3"><font size="1" face="Frutiger-LightCn"><font size="1" face="Frutiger-LightCn"><font size="4">Registration starts @ 7am</font></font></font></font></div><div align="center"><font size="3"><font size="1" face="Frutiger-LightCn"><font size="1" face="Frutiger-LightCn"><font size="4">Tournament Begins @ 8am </font></font></font></font></div><div align="center"><font size="3"><font size="1" face="Frutiger-LightCn"><font size="1" face="Frutiger-LightCn"><font size="4">The Chamber Office will be CLOSED!</font></font></font></font></div><div align="center"><font size="3"><font size="1" face="Frutiger-LightCn"><font size="1" face="Frutiger-LightCn"><font size="4">Any questions or want to sign-up your team </font></font></font></font></div><div align="center"><font size="3"><font size="1" face="Frutiger-LightCn"><font size="1" face="Frutiger-LightCn"><font size="4">Call The Chamber Office (435)882-0690</font></font></font></font></div><div align="center"><font size="3"><font size="1" face="Frutiger-LightCn"><font size="1" face="Frutiger-LightCn"><font size="4">For a registration form\, visit our website </font></font></font></font></div><div align="center"><font size="3"><font size="1" face="Frutiger-LightCn"><font size="1" face="Frutiger-LightCn"><font size="4"><a href="http://www.tooelechamber.com">www.tooelechamber.com</a></font></font></font></font></div><div align="center"><font size="3"><font size="1" face="Frutiger-LightCn"><font size="1" face="Frutiger-LightCn"><font size="4"><br /></font></font></font></font></div><div align="center">&nbsp\;</div>
LOCATION:
UID:e.125.505
SEQUENCE:3
DTSTAMP:20260423T062555Z
URL:https://business.tooelechamber.com/events/details/chamber-annual-golf-tournament-06-18-2010-505
END:VEVENT

END:VCALENDAR
