BEGIN:VCALENDAR
VERSION:2.0
PRODID:-//ChamberMaster//Event Calendar 2.0//EN
METHOD:PUBLISH
X-PUBLISHED-TTL:P3D
REFRESH-INTERVAL:P3D
CALSCALE:GREGORIAN
BEGIN:VEVENT
DTSTART:20140202T013000Z
DTEND:20140202T030000Z
X-MICROSOFT-CDO-ALLDAYEVENT:FALSE
SUMMARY:Chamber Banquet
DESCRIPTION:Installation Banquet\n\nSaturday\, February 1st\, 2014\n\nMiller Motorsports Park\n\n2901 North Sheep Lane\n\nTooele\, UT 84074\n\n6:30 pm Past-present presentation\n\n7:00 pm Dinner\n\n$30 per person\n\n or \n\n$110 for Table of four.
X-ALT-DESC;FMTTYPE=text/html:<strong><u><span style="font-size:12.0pt\;">Installation Banquet</span></u></strong><br />\n<span style="font-size:12.0pt\;">Saturday\, February 1<sup>st</sup>\, 2014</span><br />\n<span style="font-size:12.0pt\;">Miller Motorsports Park</span><br />\n<span style="font-size:12.0pt\;">2901 North Sheep Lane</span><br />\n<span style="font-size:12.0pt\;">Tooele\, UT 84074</span><br />\n<span style="font-size:12.0pt\;">6:30 pm Past-present presentation</span><br />\n<span style="font-size:12.0pt\;">7:00 pm Dinner</span><br />\n<span style="font-size:12.0pt\;">$30 per person</span><br />\n<span style="font-size:12.0pt\;">&nbsp\;or </span><br />\n<span style="font-size:12.0pt\;">$110 for Table of four.</span><br />\n
LOCATION:
UID:e.125.5060
SEQUENCE:3
DTSTAMP:20260420T020828Z
URL:https://business.tooelechamber.com/events/details/chamber-banquet-02-01-2014-5060
END:VEVENT

END:VCALENDAR
