BEGIN:VCALENDAR
VERSION:2.0
PRODID:-//ChamberMaster//Event Calendar 2.0//EN
METHOD:PUBLISH
X-PUBLISHED-TTL:P3D
REFRESH-INTERVAL:P3D
CALSCALE:GREGORIAN
BEGIN:VEVENT
DTSTART:20120704T133000Z
DTEND:20120704T153000Z
X-MICROSOFT-CDO-ALLDAYEVENT:FALSE
SUMMARY:Chamber Breakfast
DESCRIPTION:Chamber Breakfast\n\n7:30 - 9:30 a.m.\n\nVeterans Memorial Park. (Corner of Vine and Main)\n\n$5 Adults and $3 kids (10 years and under)\n\n\n\nPre-purchase tickets at the Chamber Office.\n\n154 South Main Tooele\n\n\n\nOr Purchase tickets at the Event.\n\n\n\nSponsored by: Mountain West Medical Center\, Maceys and Denny's.
X-ALT-DESC;FMTTYPE=text/html:<strong><span style="font-size: 20px">Chamber Breakfast<br />\n7:30 - 9:30 a.m.<br />\nVeterans Memorial Park. (Corner of Vine and Main)<br />\n$5 Adults and $3 kids (10 years and under)<br />\n<br />\nPre-purchase tickets at the Chamber Office.<br />\n154 South Main Tooele<br />\n<br />\nOr Purchase tickets at the Event.<br />\n<br />\nSponsored by: Mountain West Medical Center\, Maceys and Denny&#39\;s.</span></strong>
LOCATION:
UID:e.125.4651
SEQUENCE:3
DTSTAMP:20260421T122013Z
URL:https://business.tooelechamber.com/events/details/chamber-breakfast-07-04-2012-4651
END:VEVENT

END:VCALENDAR
