BEGIN:VCALENDAR
VERSION:2.0
PRODID:-//ChamberMaster//Event Calendar 2.0//EN
METHOD:PUBLISH
X-PUBLISHED-TTL:P3D
REFRESH-INTERVAL:P3D
CALSCALE:GREGORIAN
BEGIN:VEVENT
DTSTART:20090325T140000Z
DTEND:20090325T150000Z
X-MICROSOFT-CDO-ALLDAYEVENT:FALSE
SUMMARY:Chamber Breakfast Meeting
DESCRIPTION:Wednesday\, March 25th- 8 am - 9 amHow to protect your business from burglaryPresenter: Representative from the Tooele City Police DepartmentPlace: Tooele City Council Chambers90 North Main\, Tooele435-882-0690
X-ALT-DESC;FMTTYPE=text/html:<div align="center"><font size="4">Wednesday\, March 25th- 8 am - 9 am</font></div><div align="center"><font size="4">How to protect your business from burglary</font></div><div align="center"><font size="4">Presenter: Representative from the </font></div><div align="center"><font size="4">Tooele City Police Department</font></div><div align="center"><font size="4">Place: Tooele City Council Chambers</font></div><div align="center"><font size="4">90 North Main\, Tooele</font></div><div align="center"><font size="4">435-882-0690</font></div>
LOCATION:
UID:e.125.550
SEQUENCE:3
DTSTAMP:20260424T041340Z
URL:https://business.tooelechamber.com/events/details/chamber-breakfast-meeting-03-25-2009-550
END:VEVENT

END:VCALENDAR
