BEGIN:VCALENDAR
VERSION:2.0
PRODID:-//ChamberMaster//Event Calendar 2.0//EN
METHOD:PUBLISH
X-PUBLISHED-TTL:P3D
REFRESH-INTERVAL:P3D
CALSCALE:GREGORIAN
BEGIN:VEVENT
DTSTART:20080617T143000Z
DTEND:20080617T153000Z
X-MICROSOFT-CDO-ALLDAYEVENT:FALSE
SUMMARY:Chamber Breakfast Meeting
DESCRIPTION:Dereck B. Miller\, Managing Director\, Governor's Office of Economic Developmentwill be the guest speakerat the breakfast meetingCo-Sponsored by Tooele County Chamber of Commerce and the Tooele County Board of Realtors Business leaders\, Chamber members and community membersare invited to attendNo charge for this event
X-ALT-DESC;FMTTYPE=text/html:<div align="center"><font face="Times New Roman" size="4">Dereck B. Miller\, Managing Director\, </font></div><div align="center"><font face="Times New Roman" size="4">Governor's Office of Economic Development</font></div><div align="center"><font face="Times New Roman" size="4">will be the guest speaker</font></div><div align="center"><font face="Times New Roman" size="4">at the breakfast meeting</font></div><div align="center"><font face="Times New Roman" size="4">Co-Sponsored by Tooele County Chamber of Commerce and </font></div><div align="center"><font face="Times New Roman" size="4">the Tooele County Board of Realtors</font></div><div align="center">&nbsp\;</div><div align="center"><font face="Times New Roman" size="4">Business leaders\, Chamber members and community members</font></div><div align="center"><font face="Times New Roman" size="4">are invited to attend</font></div><div align="center"><font face="Times New Roman" size="4">No charge for this event</font></div><div>&nbsp\;</div>
LOCATION:Tooele City Hall\, Council Chambers90 North Main\, Tooele
UID:e.125.424
SEQUENCE:3
DTSTAMP:20260424T183802Z
URL:https://business.tooelechamber.com/events/details/chamber-breakfast-meeting-06-17-2008-424
END:VEVENT

END:VCALENDAR
