BEGIN:VCALENDAR
VERSION:2.0
PRODID:-//ChamberMaster//Event Calendar 2.0//EN
METHOD:PUBLISH
X-PUBLISHED-TTL:P3D
REFRESH-INTERVAL:P3D
CALSCALE:GREGORIAN
BEGIN:VEVENT
DTSTART:20110429T150000Z
DTEND:20110429T200000Z
X-MICROSOFT-CDO-ALLDAYEVENT:FALSE
SUMMARY:Chamber Breakfast Open House at Miller Motorsports Park
DESCRIPTION:It's an Open House at Miller Motorsports Park. As a valued member of the business community\, join us for a light breakfast and have some fun at the park. See our newest attraction\, the brand new Zip Line. Come and experience these and other attractions:\n\n	-FREE Zip Line\n\n	-$16 Karting \n\n	-$10 Jeep Rides\n\n	-Museum Tour \n\n	 \n\n	Friday\, April 29\, 2011\n\n	Light breakfast from 9-10am\n\n	Open House from 10am-2pm\n\n	Please RSVP by Wednesday\, April 27\, 2011\n\n	To RSVP email Kara Perkins at kara@millermotorsportspark.com
X-ALT-DESC;FMTTYPE=text/html:<p style="text-align: center">\n	<span style="font-size: 14px">It&#39\;s an Open House at Miller Motorsports Park. As a valued member of the business community\, join us for a light breakfast and have some fun at the park. See our newest attraction\, the brand new Zip Line. Come and experience these and other attractions</span>:</p>\n<p style="text-align: center">\n	<span style="font-size: 14px">-FREE Zip Line<br />\n	-$16 Karting </span><br />\n	<span style="font-size: 14px">-$10 Jeep Rides<br />\n	-Museum Tour </span><br />\n	&nbsp\;</p>\n<p style="text-align: center">\n	<span style="font-size: 14px"><span style="font-size: 22px">Friday\, April 29\, 2011</span><br />\n	Light breakfast from 9-10am<br />\n	Open House from 10am-2pm<br />\n	Please RSVP&nbsp\;by Wednesday\, April 27\, 2011<br />\n	To RSVP email Kara Perkins at <a href="mailto:kara@millermotorsportspark.com">kara@millermotorsportspark.com</a> </span><br />\n	&nbsp\;</p>\n
LOCATION:
UID:e.125.3660
SEQUENCE:3
DTSTAMP:20260422T122313Z
URL:https://business.tooelechamber.com/events/details/chamber-breakfast-open-house-at-miller-motorsports-park-04-29-2011-3660
END:VEVENT

END:VCALENDAR
