BEGIN:VCALENDAR
VERSION:2.0
PRODID:-//ChamberMaster//Event Calendar 2.0//EN
METHOD:PUBLISH
X-PUBLISHED-TTL:P3D
REFRESH-INTERVAL:P3D
CALSCALE:GREGORIAN
BEGIN:VEVENT
DTSTART:20120526T130000Z
DTEND:20120526T210000Z
X-MICROSOFT-CDO-ALLDAYEVENT:FALSE
SUMMARY:Chamber Building Clean-up Day
DESCRIPTION:Chamber Building Clean-up Day\n\n	154 South Main Street\, Tooele starting at 8 am\n\n	Free Lunch\n\n	Sponsored by: Modern Woodmen of America\n\n	Prepared by: Denny's
X-ALT-DESC;FMTTYPE=text/html:<p>\n	<span style="font-size: 24px"><strong><u>Chamber Building Clean-up Day</u></strong><br />\n	154 South Main Street\, Tooele starting at 8 am<br />\n	Free Lunch<br />\n	Sponsored by: Modern Woodmen of America<br />\n	Prepared by: Denny&#39\;s</span></p>\n
LOCATION:
UID:e.125.4842
SEQUENCE:3
DTSTAMP:20260421T154720Z
URL:https://business.tooelechamber.com/events/details/chamber-building-clean-up-day-05-26-2012-4842
END:VEVENT

END:VCALENDAR
