BEGIN:VCALENDAR
VERSION:2.0
PRODID:-//ChamberMaster//Event Calendar 2.0//EN
METHOD:PUBLISH
X-PUBLISHED-TTL:P3D
REFRESH-INTERVAL:P3D
CALSCALE:GREGORIAN
BEGIN:VEVENT
DTSTART:20111214T180000Z
DTEND:20111214T210000Z
X-MICROSOFT-CDO-ALLDAYEVENT:FALSE
SUMMARY:Chamber Christmas Open House
DESCRIPTION:Tooele County Chamber of Commerce & Tourism\n\n	Annual Christmas\n\n	Open House\n\n	Wed. December 14th 2011\n\n	11am-2pm\n\n	Chamber Building\n\n	154 South Main Tooele\n\n	Chamber Office\n\n	435-882-0690
X-ALT-DESC;FMTTYPE=text/html:<p style="text-align: center">\n	<strong><span style="font-family: tahoma"><span style="font-size: 24px">Tooele County Chamber of Commerce &amp\; Tourism<br />\n	Annual Christmas<br />\n	Open House<br />\n	Wed. December 14th 2011<br />\n	11am-2pm<br />\n	Chamber Building<br />\n	154 South Main Tooele<br />\n	Chamber Office<br />\n	435-882-0690</span></span></strong></p>\n
LOCATION:
UID:e.125.3580
SEQUENCE:3
DTSTAMP:20260421T233717Z
URL:https://business.tooelechamber.com/events/details/chamber-christmas-open-house-12-14-2011-3580
END:VEVENT

END:VCALENDAR
