BEGIN:VCALENDAR
VERSION:2.0
PRODID:-//ChamberMaster//Event Calendar 2.0//EN
METHOD:PUBLISH
X-PUBLISHED-TTL:P3D
REFRESH-INTERVAL:P3D
CALSCALE:GREGORIAN
BEGIN:VEVENT
DTSTART:20130511T150000Z
DTEND:20130511T180000Z
X-MICROSOFT-CDO-ALLDAYEVENT:FALSE
SUMMARY:Chamber Clean up day
DESCRIPTION:Tooele County Chamber of Commerce\n\n	is having a building clean up day\n\n	Saturday\, May 11\, 2013\n\n	9 am - 12 noon Click here to edit...
X-ALT-DESC;FMTTYPE=text/html:<div style="color: gray">\n	<span style="font-size: 24px"><span style="color: #006400">Tooele County Chamber of Commerce<br />\n	is having a building clean up day<br />\n	Saturday\, May 11\, 2013<br />\n	9 am - 12 noon </span></span>Click here to edit...</div>\n
LOCATION:
UID:e.125.5031
SEQUENCE:3
DTSTAMP:20260420T200215Z
URL:https://business.tooelechamber.com/events/details/chamber-clean-up-day-05-11-2013-5031
END:VEVENT

END:VCALENDAR
