BEGIN:VCALENDAR
VERSION:2.0
PRODID:-//ChamberMaster//Event Calendar 2.0//EN
METHOD:PUBLISH
X-PUBLISHED-TTL:P3D
REFRESH-INTERVAL:P3D
CALSCALE:GREGORIAN
BEGIN:VEVENT
DTSTART;VALUE=DATE:20100528
DTEND;VALUE=DATE:20100529
TRANSP:TRANSPARENT
X-MICROSOFT-CDO-ALLDAYEVENT:TRUE
SUMMARY:Chamber Closed for CJC Golf Tournament
DESCRIPTION:Tooele County Chamber of Commercewill be closed Friday\, May 28\, 2010 for the Children's Justice Center Golf Tournament
X-ALT-DESC;FMTTYPE=text/html:<div style="text-align: center"><span style="font-size: large">Tooele County Chamber of Commerce</span></div><div style="text-align: center"><span style="font-size: large">will be closed Friday\, May 28\, 2010 </span></div><div style="text-align: center"><span style="font-size: large">for the Children's Justice Center Golf Tournament </span></div>
LOCATION:
UID:e.125.3143
SEQUENCE:3
DTSTAMP:20260423T063103Z
URL:https://business.tooelechamber.com/events/details/chamber-closed-for-cjc-golf-tournament-05-28-2010-3143
END:VEVENT

END:VCALENDAR
