BEGIN:VCALENDAR
VERSION:2.0
PRODID:-//ChamberMaster//Event Calendar 2.0//EN
METHOD:PUBLISH
X-PUBLISHED-TTL:P3D
REFRESH-INTERVAL:P3D
CALSCALE:GREGORIAN
BEGIN:VEVENT
DTSTART;VALUE=DATE:20121122
DTEND;VALUE=DATE:20121123
TRANSP:TRANSPARENT
X-MICROSOFT-CDO-ALLDAYEVENT:TRUE
SUMMARY:Chamber Closed for the Holiday
DESCRIPTION:Chamber Closed for Thanksgiving Day
X-ALT-DESC;FMTTYPE=text/html:<strong><span style="font-size: 20px">Chamber Closed for Thanksgiving Day</span></strong>
LOCATION:
UID:e.125.4730
SEQUENCE:3
DTSTAMP:20260421T052545Z
URL:https://business.tooelechamber.com/events/details/chamber-closed-for-the-holiday-11-22-2012-4730
END:VEVENT

END:VCALENDAR
