BEGIN:VCALENDAR
VERSION:2.0
PRODID:-//ChamberMaster//Event Calendar 2.0//EN
METHOD:PUBLISH
X-PUBLISHED-TTL:P3D
REFRESH-INTERVAL:P3D
CALSCALE:GREGORIAN
BEGIN:VEVENT
DTSTART;VALUE=DATE:20100705
DTEND;VALUE=DATE:20100706
TRANSP:TRANSPARENT
X-MICROSOFT-CDO-ALLDAYEVENT:TRUE
SUMMARY:Chamber CLOSED in observance of Independence Day
DESCRIPTION:The Chamber of Commerce will be Closed in observance of the 4th of July celebration
X-ALT-DESC;FMTTYPE=text/html:<div style="text-align: center"><span style="font-size: large">The Chamber of Commerce will be Closed in observance of the 4th of July celebration</span></div>
LOCATION:
UID:e.125.3179
SEQUENCE:3
DTSTAMP:20260423T032908Z
URL:https://business.tooelechamber.com/events/details/chamber-closed-in-observance-of-independence-day-07-05-2010-3179
END:VEVENT

END:VCALENDAR
