BEGIN:VCALENDAR
VERSION:2.0
PRODID:-//ChamberMaster//Event Calendar 2.0//EN
METHOD:PUBLISH
X-PUBLISHED-TTL:P3D
REFRESH-INTERVAL:P3D
CALSCALE:GREGORIAN
BEGIN:VEVENT
DTSTART;VALUE=DATE:20101124
DTEND;VALUE=DATE:20101125
TRANSP:TRANSPARENT
X-MICROSOFT-CDO-ALLDAYEVENT:TRUE
SUMMARY:Chamber Closing at Noon
DESCRIPTION:The Chamber Office will be closing at Noon\n\n	on November 24th for the Thanksgiving Holiday!!\n\n	Thank you
X-ALT-DESC;FMTTYPE=text/html:<p style="text-align: center">\n	<span style="font-size: 24px">The Chamber Office will be closing at Noon<br />\n	on November 24th for the Thanksgiving Holiday!!<br />\n	Thank you </span></p>\n
LOCATION:
UID:e.125.3286
SEQUENCE:3
DTSTAMP:20260422T202927Z
URL:https://business.tooelechamber.com/events/details/chamber-closing-at-noon-11-24-2010-3286
END:VEVENT

END:VCALENDAR
