BEGIN:VCALENDAR
VERSION:2.0
PRODID:-//ChamberMaster//Event Calendar 2.0//EN
METHOD:PUBLISH
X-PUBLISHED-TTL:P3D
REFRESH-INTERVAL:P3D
CALSCALE:GREGORIAN
BEGIN:VEVENT
DTSTART:20100616T140000Z
DTEND:20100616T150000Z
X-MICROSOFT-CDO-ALLDAYEVENT:FALSE
SUMMARY:Chamber Educational Breakfast Meeting
DESCRIPTION:Educational Breakfast MeetingWednesday\, June 16\, 2010 @ 8amCome learn about good customer servicePresented by: Jason Yerka of the Tooele County Business Resource CenterLocation: Tooele County Building Auditorium 47 South Main Street\, Tooele NO CHARGE for this event Please RSVP by Monday\, June 14th Chamber Office 882-0690
X-ALT-DESC;FMTTYPE=text/html:<div><p class="MsoNormal" style="text-align: center\; line-height: normal\; margin: 0in 0in 0pt"><u><span style="font-size: large"><b style="mso-bidi-font-weight: normal">Educational Breakfast Meeting</b></span></u><b style="mso-bidi-font-weight: normal"><span style="font-size: 12pt"><o:p></o:p></span></b></p><p class="MsoNormal" style="text-align: center\; line-height: normal\; margin: 0in 0in 0pt"><span style="font-size: large">Wednesday\, June 16\, 2010 @ 8am</span><span style="font-size: 12pt"><o:p></o:p></span></p><p class="MsoNormal" style="text-align: center\; line-height: normal\; margin: 0in 0in 0pt"><span style="font-size: large">Come learn about good customer service</span><span style="font-size: 12pt"><o:p></o:p></span></p><p class="MsoNormal" style="text-align: center\; line-height: normal\; margin: 0in 0in 0pt"><span style="font-size: large">Presented by: Jason Yerka of the </span><span style="font-size: 12pt"><o:p></o:p></span></p><p class="MsoNormal" style="text-align: center\; line-height: normal\; margin: 0in 0in 0pt"><span style="font-size: large">Tooele County Business Resource Center</span><span style="font-size: 12pt"><o:p></o:p></span></p><p class="MsoNormal" style="text-align: center\; line-height: normal\; margin: 0in 0in 0pt"><span style="font-size: large">Location: Tooele County Building Auditorium </span><span style="font-size: 12pt"><o:p></o:p></span></p><p class="MsoNormal" style="text-align: center\; line-height: normal\; margin: 0in 0in 0pt"><span style="font-size: large">47 South Main Street\, Tooele </span><span style="font-size: 12pt"><o:p></o:p></span></p><div style="text-align: center"><span style="font-size: large"><span style="line-height: 115%\; mso-ascii-theme-font: minor-latin\; mso-fareast-font-family: Calibri\; mso-fareast-theme-font: minor-latin\; mso-hansi-theme-font: minor-latin\; mso-bidi-font-family: &rsquo\;Times New Roman&rsquo\;\; mso-bidi-theme-font: minor-bidi\; mso-ansi-language: EN-US\; mso-fareast-language: EN-US\; mso-bidi-language: AR-SA">NO CHARGE for this event </span></span></div><div style="text-align: center"><span style="font-size: large"><span style="line-height: 115%\; mso-ascii-theme-font: minor-latin\; mso-fareast-font-family: Calibri\; mso-fareast-theme-font: minor-latin\; mso-hansi-theme-font: minor-latin\; mso-bidi-font-family: &rsquo\;Times New Roman&rsquo\;\; mso-bidi-theme-font: minor-bidi\; mso-ansi-language: EN-US\; mso-fareast-language: EN-US\; mso-bidi-language: AR-SA">Please RSVP by Monday\, June 14th </span></span></div><div style="text-align: center"><span style="font-size: large"><span style="line-height: 115%\; mso-ascii-theme-font: minor-latin\; mso-fareast-font-family: Calibri\; mso-fareast-theme-font: minor-latin\; mso-hansi-theme-font: minor-latin\; mso-bidi-font-family: &rsquo\;Times New Roman&rsquo\;\; mso-bidi-theme-font: minor-bidi\; mso-ansi-language: EN-US\; mso-fareast-language: EN-US\; mso-bidi-language: AR-SA">Chamber Office 882-0690</span></span></div></div>
LOCATION:
UID:e.125.3174
SEQUENCE:3
DTSTAMP:20260423T062456Z
URL:https://business.tooelechamber.com/events/details/chamber-educational-breakfast-meeting-06-16-2010-3174
END:VEVENT

END:VCALENDAR
