BEGIN:VCALENDAR
VERSION:2.0
PRODID:-//ChamberMaster//Event Calendar 2.0//EN
METHOD:PUBLISH
X-PUBLISHED-TTL:P3D
REFRESH-INTERVAL:P3D
CALSCALE:GREGORIAN
BEGIN:VEVENT
DTSTART:20100629T140000Z
DTEND:20100629T150000Z
X-MICROSOFT-CDO-ALLDAYEVENT:FALSE
SUMMARY:Chamber Educational Meeting
DESCRIPTION:Chamber Educational MeetingTuesday\, June 29\, 2010 @ 8-9am "Making the Most of the Chamber Website"Learn how to utilize the Chamber website.Location: Tooele County Emergency Management Building NO CHARGE for this event!Please RSVP by Monday\, June 27th Chamber Office 882-0690
X-ALT-DESC;FMTTYPE=text/html:<div><p class="MsoNormal" style="text-align: center\; line-height: normal\; margin: 0in 0in 0pt"><u><span style="font-size: medium"><b style="mso-bidi-font-weight: normal"><font face="Calibri">Chamber Educational Meeting</font></b></span></u><b style="mso-bidi-font-weight: normal"><span style="font-size: 12pt"><font face="Calibri"><o:p></o:p></font></span></b></p><p class="MsoNormal" style="text-align: center\; line-height: normal\; margin: 0in 0in 0pt"><span style="font-size: medium"><font face="Calibri">Tuesday\, June 29\, 2010 @ 8-9am </font></span></p><p class="MsoNormal" style="text-align: center\; line-height: normal\; margin: 0in 0in 0pt"><span style="font-size: medium"><font face="Calibri">&ldquo\;Making the Most of the Chamber Website&rdquo\;</font></span></p><p class="MsoNormal" style="text-align: center\; line-height: normal\; margin: 0in 0in 0pt"><span style="font-size: medium"><font face="Calibri">Learn how to utilize the Chamber website.</font></span></p><p class="MsoNormal" style="text-align: center\; line-height: normal\; margin: 0in 0in 0pt"><span style="font-size: medium"><font face="Calibri">Location: Tooele County Emergency Management Building </font></span></p><p class="MsoNormal" style="text-align: center\; line-height: normal\; margin: 0in 0in 0pt"><span style="font-size: medium"><font face="Calibri">NO CHARGE for this event!</font></span></p><p class="MsoNormal" style="text-align: center\; line-height: normal\; margin: 0in 0in 0pt"><span style="font-size: medium"><font face="Calibri">Please RSVP by Monday\, June 27th </font></span></p><p class="MsoNormal" style="text-align: center\; line-height: normal\; margin: 0in 0in 0pt"><span style="font-size: medium"><font face="Calibri">Chamber Office 882-0690</font></span></p><p class="MsoNormal" style="text-align: center\; line-height: normal\; margin: 0in 0in 0pt"><o:p><span style="font-size: medium"><font face="Calibri">&nbsp\;</font></span></o:p></p></div>
LOCATION:
UID:e.125.3175
SEQUENCE:3
DTSTAMP:20260423T044856Z
URL:https://business.tooelechamber.com/events/details/chamber-educational-meeting-06-29-2010-3175
END:VEVENT

END:VCALENDAR
