BEGIN:VCALENDAR
VERSION:2.0
PRODID:-//ChamberMaster//Event Calendar 2.0//EN
METHOD:PUBLISH
X-PUBLISHED-TTL:P3D
REFRESH-INTERVAL:P3D
CALSCALE:GREGORIAN
BEGIN:VEVENT
DTSTART:20130203T010000Z
DTEND:20130203T050000Z
X-MICROSOFT-CDO-ALLDAYEVENT:FALSE
SUMMARY:Chamber Installation Banquet
DESCRIPTION:Tooele County Chamber of  Commerce Presents\n\n	 \n\n	Tooele Chamber Annual Installation Banquet\n\n	 \n\n	Saturday\, February 2nd\, 2013\n\n	 \n\n	Past President Reception \n\n	6:30 P.M\n\n	Dinner & Program \n\n	7:00 P.M\n\n	 \n\n	Cost $30 Per Person\n\n	$110 table of 4\n\n	 \n\n	Tooele Community Learning \n\n	Center\n\n	211 South Tooele Blvd\n\n	\n\n	Please RSVP By January 28th\, 2013
X-ALT-DESC;FMTTYPE=text/html:<div style="color: gray">\n	<span style="color: #000080">&nbsp\;<span style="font-family: times new roman"><span style="font-weight: bold\; language: en-us"><span style="font-size: 11pt">Tooele County Chamber of&nbsp\; </span></span><span style="font-weight: bold\; language: en-us"><span style="font-size: 11pt">Commerce Presents</span></span><br />\n	&nbsp\;<br />\n	<span style="font-weight: bold\; language: en-us"><span style="font-size: 11pt">Tooele Chamber Annual </span></span><span style="font-weight: bold\; language: en-us"><span style="font-size: 11pt">Installation Banquet</span></span><br />\n	&nbsp\;<br />\n	<span style="font-weight: bold\; language: en-us"><span style="font-size: 11pt">Saturday\, February 2nd\, 2013</span></span><br />\n	&nbsp\;<br />\n	<span style="font-weight: bold\; language: en-us"><span style="font-size: 11pt">Past President Reception </span></span><br />\n	<span style="font-weight: bold\; language: en-us"><span style="font-size: 11pt">6:30 P.M</span></span><br />\n	<span style="font-weight: bold\; language: en-us"><span style="font-size: 11pt">Dinner &amp\; Program </span></span><br />\n	<span style="font-weight: bold\; language: en-us"><span style="font-size: 11pt">7:00 P.M</span></span><br />\n	&nbsp\;<br />\n	<span style="font-weight: bold\; language: en-us"><span style="font-size: 11pt">Cost $30 Per Person</span></span><br />\n	<span style="font-weight: bold\; language: en-us"><span style="font-size: 11pt">$110 table of 4</span></span><br />\n	&nbsp\;<br />\n	<span style="font-weight: bold\; language: en-us"><span style="font-size: 11pt">Tooele Community Learning </span></span><br />\n	<span style="font-weight: bold\; language: en-us"><span style="font-size: 11pt">Center</span></span><br />\n	<span style="font-weight: bold\; language: en-us"><span style="font-size: 11pt">211 South Tooele Blvd<br />\n	<br />\n	Please RSVP By January 28th\, 2013</span></span></span></span><br />\n	<br />\n	&nbsp\;</div>\n
LOCATION:
UID:e.125.4958
SEQUENCE:3
DTSTAMP:20260420T235657Z
URL:https://business.tooelechamber.com/events/details/chamber-installation-banquet-02-02-2013-4958
END:VEVENT

END:VCALENDAR
