BEGIN:VCALENDAR
VERSION:2.0
PRODID:-//ChamberMaster//Event Calendar 2.0//EN
METHOD:PUBLISH
X-PUBLISHED-TTL:P3D
REFRESH-INTERVAL:P3D
CALSCALE:GREGORIAN
BEGIN:VEVENT
DTSTART:20110112T190000Z
DTEND:20110112T200000Z
X-MICROSOFT-CDO-ALLDAYEVENT:FALSE
SUMMARY:Chamber Luncheon
DESCRIPTION:Chamber Luncheon \n\n	Wednesday\, January 12\, 2011 from 12-1pm\n\n	Sponsor: Tooele County Health Department\n\n	Obesity and Tobacco prevention\n\n	Location: Deseret Peak Convention Center\n\n	2930 West Hwy 112\, Tooele \n\n	NO CHARGE WITH RSVP\n\n	If you do not RSVP you will be charged at the door.\n\n	Chamber Office 435-882-0690
X-ALT-DESC;FMTTYPE=text/html:<p style="text-align: center">\n	<span style="font-size: 18px"><strong><u>Chamber Luncheon </u></strong><br />\n	Wednesday\, January 12\, 2011 from 12-1pm<br />\n	Sponsor: Tooele County Health Department<br />\n	Obesity and Tobacco prevention<br />\n	Location:&nbsp\;Deseret Peak Convention Center<br />\n	2930 West Hwy 112\, Tooele&nbsp\;<br />\n	NO CHARGE WITH RSVP<br />\n	If you do not RSVP you will be charged at the door.<br />\n	Chamber Office 435-882-0690&nbsp\;</span></p>\n
LOCATION:
UID:e.125.3595
SEQUENCE:3
DTSTAMP:20260422T170806Z
URL:https://business.tooelechamber.com/events/details/chamber-luncheon-01-12-2011-3595
END:VEVENT

END:VCALENDAR
