BEGIN:VCALENDAR
VERSION:2.0
PRODID:-//ChamberMaster//Event Calendar 2.0//EN
METHOD:PUBLISH
X-PUBLISHED-TTL:P3D
REFRESH-INTERVAL:P3D
CALSCALE:GREGORIAN
BEGIN:VEVENT
DTSTART:20110209T190000Z
DTEND:20110209T200000Z
X-MICROSOFT-CDO-ALLDAYEVENT:FALSE
SUMMARY:Chamber Luncheon
DESCRIPTION:Chamber Luncheon\n\n	Wednesday\, February 9\, 2011@ 12-1pm\n\n	Sponsor: URS (formerly EG&G)\n\n	Speaker: Deseret Chemical Depot\n\n	Commander Col. Mark Pomeroy\n\n	Location: Deseret Peak Convention Center\n\n	2930 West Hwy 112\, Tooele\n\n	$10 Members\, $15 Non-members\n\n	Please RSVP Monday\, Feb. 7th by 5pm\n\n	Chamber Office 435-882-0690
X-ALT-DESC;FMTTYPE=text/html:<p style="text-align: center">\n	<span style="font-size: 18px">Chamber Luncheon<br />\n	Wednesday\, February 9\, 2011@ 12-1pm<br />\n	Sponsor: URS (formerly EG&amp\;G)<br />\n	Speaker:&nbsp\;Deseret Chemical Depot<br />\n	Commander Col. Mark Pomeroy<br />\n	Location: Deseret Peak Convention Center<br />\n	2930 West Hwy 112\, Tooele<br />\n	$10 Members\, $15 Non-members<br />\n	Please RSVP Monday\, Feb. 7th by 5pm<br />\n	Chamber Office 435-882-0690</span></p>\n
LOCATION:
UID:e.125.3604
SEQUENCE:3
DTSTAMP:20260422T154314Z
URL:https://business.tooelechamber.com/events/details/chamber-luncheon-02-09-2011-3604
END:VEVENT

END:VCALENDAR
