BEGIN:VCALENDAR
VERSION:2.0
PRODID:-//ChamberMaster//Event Calendar 2.0//EN
METHOD:PUBLISH
X-PUBLISHED-TTL:P3D
REFRESH-INTERVAL:P3D
CALSCALE:GREGORIAN
BEGIN:VEVENT
DTSTART:20090211T190000Z
DTEND:20090211T200000Z
X-MICROSOFT-CDO-ALLDAYEVENT:FALSE
SUMMARY:Chamber Luncheon
DESCRIPTION:Wednesday\, February 11Sponsor: Excelsior Academy\n Tooele Health Dept.\n 151 North Main St.\, Tooele\n Please RSVP by Monday\, February 9th by 5 pm\n 435-882-0690
X-ALT-DESC;FMTTYPE=text/html:<div align="center"><font size="4">&nbsp\;Wednesday\, February 11</font></div><div align="center"><font size="4">Sponsor: Excelsior Academy<br />&nbsp\;Tooele Health Dept.<br />&nbsp\;151 North Main St.\, Tooele<br />&nbsp\;Please RSVP by Monday\, February 9th by 5 pm<br />&nbsp\;435-882-0690</font></div>
LOCATION:
UID:e.125.513
SEQUENCE:3
DTSTAMP:20260424T053416Z
URL:https://business.tooelechamber.com/events/details/chamber-luncheon-02-11-2009-513
END:VEVENT

END:VCALENDAR
