BEGIN:VCALENDAR
VERSION:2.0
PRODID:-//ChamberMaster//Event Calendar 2.0//EN
METHOD:PUBLISH
X-PUBLISHED-TTL:P3D
REFRESH-INTERVAL:P3D
CALSCALE:GREGORIAN
BEGIN:VEVENT
DTSTART:20110223T190000Z
DTEND:20110223T200000Z
X-MICROSOFT-CDO-ALLDAYEVENT:FALSE
SUMMARY:Chamber Luncheon
DESCRIPTION:Chamber Luncheon\n\n	Sponsored by Ensign Engineering
X-ALT-DESC;FMTTYPE=text/html:<div>\n	Chamber Luncheon</div>\n<div>\n	Sponsored by Ensign Engineering</div>\n
LOCATION:Deseret Peak ComplexNew Convention Center
UID:e.125.3621
SEQUENCE:3
DTSTAMP:20260422T154254Z
URL:https://business.tooelechamber.com/events/details/chamber-luncheon-02-23-2011-3621
END:VEVENT

END:VCALENDAR
