BEGIN:VCALENDAR
VERSION:2.0
PRODID:-//ChamberMaster//Event Calendar 2.0//EN
METHOD:PUBLISH
X-PUBLISHED-TTL:P3D
REFRESH-INTERVAL:P3D
CALSCALE:GREGORIAN
BEGIN:VEVENT
DTSTART:20100310T190000Z
DTEND:20100310T200000Z
X-MICROSOFT-CDO-ALLDAYEVENT:FALSE
SUMMARY:Chamber Luncheon
DESCRIPTION:March 10\, 2010 \nSponsor: Tooele Applied Technology College\nLocation: Utah State Universtiy 1021 West Vine St\, TooeleTime: Noon - 1 pm \nCost: $10.00 Members\, \n$15.00 Non-Members
X-ALT-DESC;FMTTYPE=text/html:<div><div style="text-align: center"><span style="font-size: large">March 10\, 2010 <br />Sponsor: Tooele Applied Technology College<br />Location: Utah State Universtiy </span></div><div style="text-align: center"><span style="font-size: large">1021 West Vine St\, Tooele</span></div><div style="text-align: center"><span style="font-size: large">Time: Noon - 1 pm <br />Cost: $10.00 Members\, <br />$15.00 Non-Members</span></div></div>
LOCATION:
UID:e.125.2621
SEQUENCE:3
DTSTAMP:20260423T093154Z
URL:https://business.tooelechamber.com/events/details/chamber-luncheon-03-10-2010-2621
END:VEVENT

END:VCALENDAR
