BEGIN:VCALENDAR
VERSION:2.0
PRODID:-//ChamberMaster//Event Calendar 2.0//EN
METHOD:PUBLISH
X-PUBLISHED-TTL:P3D
REFRESH-INTERVAL:P3D
CALSCALE:GREGORIAN
BEGIN:VEVENT
DTSTART:20120314T180000Z
DTEND:20120314T190000Z
X-MICROSOFT-CDO-ALLDAYEVENT:FALSE
SUMMARY:Chamber Luncheon
DESCRIPTION:Chamber Luncheon\n\nMarch 14th\, 2012\n\n12 noon - 1 p.m\n\nHost :  UMA Healthcare\n\nSponsored by: Tooele County Health Dept.\n\n154 South Main\n\nRSVP Monday March 12th @ 5pm\n\n882-0690 or email  staff@tooelechamber.com\n\n$10 for members $15 for non-members
X-ALT-DESC;FMTTYPE=text/html:<span style="font-size: 20px"><strong>Chamber Luncheon<br />\nMarch 14th\, 2012<br />\n12 noon - 1 p.m<br />\nHost :&nbsp\; UMA Healthcare<br />\nSponsored by: Tooele County Health Dept.<br />\n154 South Main<br />\nRSVP Monday March 12th @ 5pm<br />\n882-0690 or email&nbsp\; staff@tooelechamber.com<br />\n$10 for members $15 for non-members</strong></span>
LOCATION:
UID:e.125.4631
SEQUENCE:3
DTSTAMP:20260421T191558Z
URL:https://business.tooelechamber.com/events/details/chamber-luncheon-03-14-2012-4631
END:VEVENT

END:VCALENDAR
