BEGIN:VCALENDAR
VERSION:2.0
PRODID:-//ChamberMaster//Event Calendar 2.0//EN
METHOD:PUBLISH
X-PUBLISHED-TTL:P3D
REFRESH-INTERVAL:P3D
CALSCALE:GREGORIAN
BEGIN:VEVENT
DTSTART;VALUE=DATE:20080409
DTEND;VALUE=DATE:20080410
TRANSP:TRANSPARENT
X-MICROSOFT-CDO-ALLDAYEVENT:TRUE
SUMMARY:Chamber Luncheon
DESCRIPTION:Chamber Monthly LuncheonSponsored by: MaceysSpeaker: Dept. of  Workforce Services- Yvonne Krause
X-ALT-DESC;FMTTYPE=text/html:<div>Chamber Monthly Luncheon</div><div>Sponsored by: Maceys</div><div>Speaker: Dept. of&nbsp\; Workforce Services- Yvonne Krause</div>
LOCATION:All-Star Lanes1111 N 200 WestTooele
UID:e.125.232
SEQUENCE:3
DTSTAMP:20260424T232143Z
URL:https://business.tooelechamber.com/events/details/chamber-luncheon-04-09-2008-232
END:VEVENT

END:VCALENDAR
