BEGIN:VCALENDAR
VERSION:2.0
PRODID:-//ChamberMaster//Event Calendar 2.0//EN
METHOD:PUBLISH
X-PUBLISHED-TTL:P3D
REFRESH-INTERVAL:P3D
CALSCALE:GREGORIAN
BEGIN:VEVENT
DTSTART:20090610T180000Z
DTEND:20090610T190000Z
X-MICROSOFT-CDO-ALLDAYEVENT:FALSE
SUMMARY:Chamber Luncheon
DESCRIPTION:Wednesday\, June 10th  12:00 noon to 1pmSponsor: Carlisle SyntecSpeaker: United Way \nPlace: TBD\n Please RSVP by Monday\, June 8th by 5 pm\n 435-882-0690
X-ALT-DESC;FMTTYPE=text/html:<div align="center"><font size="4">&nbsp\;Wednesday\,&nbsp\;June 10th&nbsp\; 12:00 noon to 1pm</font></div><div align="center"><font size="4">Sponsor:&nbsp\;Carlisle Syntec</font></div><div align="center"><font size="4">Speaker: United Way&nbsp\;<br />Place: TBD<br />&nbsp\;Please RSVP by Monday\,&nbsp\;June 8th by 5 pm<br />&nbsp\;435-882-0690</font></div>
LOCATION:
UID:e.125.517
SEQUENCE:3
DTSTAMP:20260423T232104Z
URL:https://business.tooelechamber.com/events/details/chamber-luncheon-06-10-2009-517
END:VEVENT

END:VCALENDAR
