BEGIN:VCALENDAR
VERSION:2.0
PRODID:-//ChamberMaster//Event Calendar 2.0//EN
METHOD:PUBLISH
X-PUBLISHED-TTL:P3D
REFRESH-INTERVAL:P3D
CALSCALE:GREGORIAN
BEGIN:VEVENT
DTSTART:20080611T180000Z
DTEND:20080611T200000Z
X-MICROSOFT-CDO-ALLDAYEVENT:FALSE
SUMMARY:Chamber Luncheon
DESCRIPTION:Chamber Monthly LuncheonSponsored by:  Valley Mental HealthSpeaker: Tobacco Prevention\, A&D Prevention\, & Clubhouse Building Fundraiser
X-ALT-DESC;FMTTYPE=text/html:<p>Chamber Monthly Luncheon</p><p>Sponsored by:&nbsp\; Valley Mental Health</p><p>Speaker: Tobacco Prevention\, A&amp\;D Prevention\, &amp\; Clubhouse Building Fundraiser</p>
LOCATION:TBD
UID:e.125.234
SEQUENCE:3
DTSTAMP:20260424T185335Z
URL:https://business.tooelechamber.com/events/details/chamber-luncheon-06-11-2008-234
END:VEVENT

END:VCALENDAR
