BEGIN:VCALENDAR
VERSION:2.0
PRODID:-//ChamberMaster//Event Calendar 2.0//EN
METHOD:PUBLISH
X-PUBLISHED-TTL:P3D
REFRESH-INTERVAL:P3D
CALSCALE:GREGORIAN
BEGIN:VEVENT
DTSTART:20110622T180000Z
DTEND:20110622T190000Z
X-MICROSOFT-CDO-ALLDAYEVENT:FALSE
SUMMARY:Chamber Luncheon
DESCRIPTION:Chamber Luncheon \n\n	Wednesday\, June 22\, 2011 from 12-1pm\n\n	Sponsor: Miller Motorsports Park\n\n	Deseret Peak Convention Center\n\n	2930 West Hwy 112\, Tooele\n\n	$10 Members\, $15 Non-members\n\n	RSVP REQUIRED BY: Monday\, June 20th by 5pm\n\n	Chamber Office 435-882-0690
X-ALT-DESC;FMTTYPE=text/html:<p style="text-align: center">\n	<span style="font-size: 22px"><span style="font-family: times new roman"><u><strong>Chamber Luncheon </strong></u><br />\n	Wednesday\, June 22\, 2011 from 12-1pm<br />\n	Sponsor: Miller Motorsports Park<br />\n	Deseret Peak Convention Center<br />\n	2930 West Hwy 112\, Tooele<br />\n	$10 Members\, $15 Non-members<br />\n	RSVP REQUIRED BY: Monday\, June 20th by 5pm<br />\n	Chamber Office 435-882-0690</span></span></p>\n
LOCATION:
UID:e.125.3699
SEQUENCE:3
DTSTAMP:20260422T104500Z
URL:https://business.tooelechamber.com/events/details/chamber-luncheon-06-22-2011-3699
END:VEVENT

END:VCALENDAR
