BEGIN:VCALENDAR
VERSION:2.0
PRODID:-//ChamberMaster//Event Calendar 2.0//EN
METHOD:PUBLISH
X-PUBLISHED-TTL:P3D
REFRESH-INTERVAL:P3D
CALSCALE:GREGORIAN
BEGIN:VEVENT
DTSTART:20090708T180000Z
DTEND:20090708T190000Z
X-MICROSOFT-CDO-ALLDAYEVENT:FALSE
SUMMARY:Chamber Luncheon
DESCRIPTION:Wednesday\, July  8th  12:00 noon to 1pmSponsor: Deseret Peak Complex\nFiremans Museum\n 2930 Hwy 112\, Tooele\n Please RSVP by Monday\, July 6th by 5 pm\n 435-882-0690
X-ALT-DESC;FMTTYPE=text/html:<div align="center"><font size="4">&nbsp\;Wednesday\, July&nbsp\;&nbsp\;8th&nbsp\; 12:00 noon to 1pm</font></div><div align="center"><font size="4">Sponsor:&nbsp\;Deseret Peak Complex<br />Firemans Museum<br />&nbsp\;2930 Hwy 112\, Tooele<br />&nbsp\;Please RSVP by Monday\,&nbsp\;July 6th by 5 pm<br />&nbsp\;435-882-0690</font></div>
LOCATION:
UID:e.125.518
SEQUENCE:3
DTSTAMP:20260423T213451Z
URL:https://business.tooelechamber.com/events/details/chamber-luncheon-07-08-2009-518
END:VEVENT

END:VCALENDAR
