BEGIN:VCALENDAR
VERSION:2.0
PRODID:-//ChamberMaster//Event Calendar 2.0//EN
METHOD:PUBLISH
X-PUBLISHED-TTL:P3D
REFRESH-INTERVAL:P3D
CALSCALE:GREGORIAN
BEGIN:VEVENT
DTSTART:20120808T180000Z
DTEND:20120808T190000Z
X-MICROSOFT-CDO-ALLDAYEVENT:FALSE
SUMMARY:Chamber Luncheon
DESCRIPTION:Chamber Luncheon\n\n\n\nWed. August 8\, 2012 @ 12 pm- 1 pm\n\nHosted by: Tooele Applied Technology College\n\nChamber Building 154 South Main\n\nRSVP by Mon. Aug. 6th by 5 pm\n\n435-882-0690 or staff@tooelechamber.com\n\n$10 for members and $15 for non-members
X-ALT-DESC;FMTTYPE=text/html:<span style="font-size: 20px"><u>Chamber Luncheon</u><br />\n<br />\nWed. August 8\, 2012 @ 12 pm- 1 pm<br />\nHosted by: Tooele Applied Technology College<br />\nChamber Building 154 South Main<br />\nRSVP by Mon. Aug. 6th by 5 pm<br />\n435-882-0690 or staff@tooelechamber.com<br />\n$10 for members and $15 for non-members</span>
LOCATION:
UID:e.125.4656
SEQUENCE:3
DTSTAMP:20260421T122122Z
URL:https://business.tooelechamber.com/events/details/chamber-luncheon-08-08-2012-4656
END:VEVENT

END:VCALENDAR
