BEGIN:VCALENDAR
VERSION:2.0
PRODID:-//ChamberMaster//Event Calendar 2.0//EN
METHOD:PUBLISH
X-PUBLISHED-TTL:P3D
REFRESH-INTERVAL:P3D
CALSCALE:GREGORIAN
BEGIN:VEVENT
DTSTART:20110810T180000Z
DTEND:20110810T190000Z
X-MICROSOFT-CDO-ALLDAYEVENT:FALSE
SUMMARY:Chamber Luncheon
DESCRIPTION:Chamber Luncheon \n\n	Wednesday\, August 10\, 2011 from 12-1pm\n\n	Sponsor: MorganStanleySmithBarney\n\n	Deseret Peak Convention Center\n\n	2930 West Hwy 112\, Tooele\n\n	$10 members\, $15 non-members\n\n	RSVP REQUIRED BY: Monday\, August 8th by 5pm\n\n	Chamber Office 435-882-0690 or chamber@tooelechamber.com
X-ALT-DESC;FMTTYPE=text/html:<p style="text-align: center">\n	<span style="font-family: tahoma"><span style="font-size: 26px"><u><strong>Chamber Luncheon </strong></u><br />\n	Wednesday\, August 10\, 2011 from 12-1pm<br />\n	Sponsor: MorganStanleySmithBarney<br />\n	Deseret Peak Convention Center<br />\n	2930 West Hwy 112\, Tooele<br />\n	$10 members\, $15 non-members<br />\n	RSVP REQUIRED BY: Monday\, August 8th by 5pm<br />\n	Chamber Office 435-882-0690 or <a href="mailto:chamber@tooelechamber.com">chamber@tooelechamber.com</a></span></span><span style="font-size: 26px"></span></p>\n
LOCATION:
UID:e.125.3696
SEQUENCE:3
DTSTAMP:20260422T061725Z
URL:https://business.tooelechamber.com/events/details/chamber-luncheon-08-10-2011-3696
END:VEVENT

END:VCALENDAR
