BEGIN:VCALENDAR
VERSION:2.0
PRODID:-//ChamberMaster//Event Calendar 2.0//EN
METHOD:PUBLISH
X-PUBLISHED-TTL:P3D
REFRESH-INTERVAL:P3D
CALSCALE:GREGORIAN
BEGIN:VEVENT
DTSTART:20090812T180000Z
DTEND:20090812T190000Z
X-MICROSOFT-CDO-ALLDAYEVENT:FALSE
SUMMARY:Chamber Luncheon
DESCRIPTION:Wednesday\, August 12 -Noon- 1 pmSponsor: EG&GSpeaker: Col. Gladney-Deseret Chemical Depot\nThe Eagles NestTooele Army Depot\n Please RSVP by Monday\, August 10th by 5 pm\n 435-882-0690
X-ALT-DESC;FMTTYPE=text/html:<div align="center"><font size="4">&nbsp\;Wednesday\,&nbsp\;August&nbsp\;12 -Noon- 1 pm</font></div><div align="center"><font size="4">Sponsor:&nbsp\;EG&amp\;G</font></div><div align="center"><font size="4">Speaker: Col. Gladney-Deseret Chemical Depot<br />The Eagles Nest</font></div><div align="center"><font size="4">Tooele Army Depot<br />&nbsp\;Please RSVP by Monday\,&nbsp\;August</font><font size="4">&nbsp\;10th by 5 pm<br />&nbsp\;435-882-0690</font></div><div align="center"><font size="4"><div align="center">&nbsp\;</div><div align="center"><font size="4"><br /></font></div></font></div>
LOCATION:
UID:e.125.519
SEQUENCE:3
DTSTAMP:20260423T195840Z
URL:https://business.tooelechamber.com/events/details/chamber-luncheon-08-12-2009-519
END:VEVENT

END:VCALENDAR
