BEGIN:VCALENDAR
VERSION:2.0
PRODID:-//ChamberMaster//Event Calendar 2.0//EN
METHOD:PUBLISH
X-PUBLISHED-TTL:P3D
REFRESH-INTERVAL:P3D
CALSCALE:GREGORIAN
BEGIN:VEVENT
DTSTART:20080813T180000Z
DTEND:20080813T190000Z
X-MICROSOFT-CDO-ALLDAYEVENT:FALSE
SUMMARY:Chamber Luncheon
DESCRIPTION:August LuncheonWednesday\, August 13th- Noon-1 pm\nPlace: All Star Lanes\n1111 No. 200 West\, Tooele\nSponsored by Mountain West Medical Center\nPlease RSVP by August 11th by 5pm\n435-882-0690
X-ALT-DESC;FMTTYPE=text/html:<p align="center"><u><font face="times new roman\,times" size="5">August Luncheon</font></u></p><p align="center"><font face="times new roman\,times" size="4">Wednesday\, August 13th- Noon-1 pm<br />Place: All Star Lanes<br />1111 No. 200 West\, Tooele<br />Sponsored by Mountain West Medical Center<br />Please RSVP by August 11th by 5pm<br />435-882-0690</font></p>
LOCATION:
UID:e.125.456
SEQUENCE:3
DTSTAMP:20260424T155412Z
URL:https://business.tooelechamber.com/events/details/chamber-luncheon-08-13-2008-456
END:VEVENT

END:VCALENDAR
