BEGIN:VCALENDAR
VERSION:2.0
PRODID:-//ChamberMaster//Event Calendar 2.0//EN
METHOD:PUBLISH
X-PUBLISHED-TTL:P3D
REFRESH-INTERVAL:P3D
CALSCALE:GREGORIAN
BEGIN:VEVENT
DTSTART:20090909T180000Z
DTEND:20090909T190000Z
X-MICROSOFT-CDO-ALLDAYEVENT:FALSE
SUMMARY:Chamber Luncheon
DESCRIPTION:Chamber's Monthly LuncheonSponsored by Tooele City
X-ALT-DESC;FMTTYPE=text/html:<div>Chamber&rsquo\;s Monthly Luncheon</div><div>Sponsored by Tooele City</div>
LOCATION:Oquirrh Hills Golf Course1255 East VineTooele
UID:e.125.2553
SEQUENCE:3
DTSTAMP:20260423T195855Z
URL:https://business.tooelechamber.com/events/details/chamber-luncheon-09-09-2009-2553
END:VEVENT

END:VCALENDAR
