BEGIN:VCALENDAR
VERSION:2.0
PRODID:-//ChamberMaster//Event Calendar 2.0//EN
METHOD:PUBLISH
X-PUBLISHED-TTL:P3D
REFRESH-INTERVAL:P3D
CALSCALE:GREGORIAN
BEGIN:VEVENT
DTSTART:20110928T180000Z
DTEND:20110928T190000Z
X-MICROSOFT-CDO-ALLDAYEVENT:FALSE
SUMMARY:Chamber Luncheon
DESCRIPTION:Chamber Luncheon\n\n	Wednesday\, September 28\, 2011 from 12-1pm\n\n	Sponsor: Tooele City\n\n	Oquirrh Hills Golf Course\n\n	1255 East Vine Street\, Tooele\n\n	$10 Members\, $15 Non-members\n\n	RSVP REQUIRED BY: Monday\, Sept. 26th by 5pm\n\n	Chamber Office 435-882-0690
X-ALT-DESC;FMTTYPE=text/html:<p style="text-align: center">\n	<span style="font-family: courier new"><span style="font-size: 22px"><u><strong>Chamber Luncheon</strong></u><br />\n	Wednesday\, September 28\, 2011 from 12-1pm<br />\n	Sponsor: Tooele City<br />\n	Oquirrh Hills Golf Course<br />\n	1255 East Vine Street\, Tooele<br />\n	$10 Members\, $15 Non-members<br />\n	RSVP REQUIRED BY: Monday\, Sept. 26th by 5pm<br />\n	Chamber Office 435-882-0690</span></span></p>\n
LOCATION:
UID:e.125.3701
SEQUENCE:3
DTSTAMP:20260422T044749Z
URL:https://business.tooelechamber.com/events/details/chamber-luncheon-09-28-2011-3701
END:VEVENT

END:VCALENDAR
