BEGIN:VCALENDAR
VERSION:2.0
PRODID:-//ChamberMaster//Event Calendar 2.0//EN
METHOD:PUBLISH
X-PUBLISHED-TTL:P3D
REFRESH-INTERVAL:P3D
CALSCALE:GREGORIAN
BEGIN:VEVENT
DTSTART:20140108T190000Z
DTEND:20140108T200000Z
X-MICROSOFT-CDO-ALLDAYEVENT:FALSE
SUMMARY:Chamber Luncheon 1-08-14
DESCRIPTION:Chamber Luncheon\n\n	Wednesday\, January 8\, 2014\n\n	Hosted by:  Scholar Academy
X-ALT-DESC;FMTTYPE=text/html:<div style="color: gray\;">\n	&nbsp\;<span style="font-weight: bold\; text-decoration: underline\; text-underline: single\; language: en-us\;"><span style="font-size: 14pt\;"><span style="color: purple\;"><span style="font-family: arial\;">Chamber Luncheon</span></span></span></span><br />\n	<span style="language: en-us\;"><span style="font-size: 12pt\;"><span style="font-family: arial\;">Wednesday\, January 8\, 2014</span></span></span><br />\n	<span style="language: en-us\;"><span style="font-size: 12pt\;"><span style="font-family: arial\;">Hosted by: &nbsp\;Scholar Academy&nbsp\;&nbsp\;&nbsp\;&nbsp\;</span></span></span><br />\n	&nbsp\;</div>\n
LOCATION:Located at : Tooele County Chamber Building\, 154 So. Main
UID:e.125.4670
SEQUENCE:3
DTSTAMP:20260420T035453Z
URL:https://business.tooelechamber.com/events/details/chamber-luncheon-1-08-14-01-08-2014-4670
END:VEVENT

END:VCALENDAR
