BEGIN:VCALENDAR
VERSION:2.0
PRODID:-//ChamberMaster//Event Calendar 2.0//EN
METHOD:PUBLISH
X-PUBLISHED-TTL:P3D
REFRESH-INTERVAL:P3D
CALSCALE:GREGORIAN
BEGIN:VEVENT
DTSTART:20101027T180000Z
DTEND:20101027T190000Z
X-MICROSOFT-CDO-ALLDAYEVENT:FALSE
SUMMARY:Chamber Luncheon
DESCRIPTION:Chamber Luncheon \n\n	Wednesday\, October 27\, 2010 @ 12-1pm\n\n	Sponsor: Tooele County\n\n	Location: Deseret Peak Convention\n\n	2930 West Hwy 112\, Tooele\n\n	$10 Members\, $15 Non-members\n\n	Please RSVP Monday\, Oct. 25th by 5pm\n\n	Chamber Office (435)882-0690
X-ALT-DESC;FMTTYPE=text/html:<p style="text-align: center">\n	<span style="font-size: 24px"><span style="font-family: tahoma"><u><strong>Chamber Luncheon </strong></u><br />\n	Wednesday\, October 27\, 2010 @ 12-1pm<br />\n	Sponsor: Tooele County<br />\n	Location: Deseret Peak Convention<br />\n	2930 West Hwy 112\, Tooele<br />\n	$10 Members\, $15 Non-members<br />\n	Please RSVP Monday\, Oct. 25th by 5pm<br />\n	Chamber Office (435)882-0690</span></span></p>\n
LOCATION:
UID:e.125.3238
SEQUENCE:3
DTSTAMP:20260422T220106Z
URL:https://business.tooelechamber.com/events/details/chamber-luncheon-10-27-2010-3238
END:VEVENT

END:VCALENDAR
