BEGIN:VCALENDAR
VERSION:2.0
PRODID:-//ChamberMaster//Event Calendar 2.0//EN
METHOD:PUBLISH
X-PUBLISHED-TTL:P3D
REFRESH-INTERVAL:P3D
CALSCALE:GREGORIAN
BEGIN:VEVENT
DTSTART:20091028T180000Z
DTEND:20091028T190000Z
X-MICROSOFT-CDO-ALLDAYEVENT:FALSE
SUMMARY:Chamber Luncheon
DESCRIPTION:October LuncheonSpeakers: Amy Bate & Gayle ParkerSponsors: MostDont.org & Tobacco Prevention Must RSVP by Monday\, October 26th.435-882-0690
X-ALT-DESC;FMTTYPE=text/html:<div><p class="MsoNormal" style="margin: 0in 0in 0pt"><b style="mso-bidi-font-weight: normal"><font size="3"><font face="Times New Roman">October Luncheon<o:p></o:p></font></font></b></p><p class="MsoNormal" style="margin: 0in 0in 0pt"><font face="Times New Roman" size="3">Speakers: Amy Bate &amp\; Gayle Parker</font></p><p class="MsoNormal" style="margin: 0in 0in 0pt"><font face="Times New Roman" size="3">Sponsors: MostDont.org &amp\; Tobacco Prevention</font></p><p class="MsoNormal" style="margin: 0in 0in 0pt">&nbsp\;</p><p class="MsoNormal" style="margin: 0in 0in 0pt"><font face="Times New Roman" size="3">Must RSVP by Monday\, October 26<sup>th</sup>.</font></p><p class="MsoNormal" style="margin: 0in 0in 0pt"><font face="Times New Roman" size="3">435-882-0690</font></p></div>
LOCATION:Place: West Elementary Gymnasium451 West 300 West\, Tooele
UID:e.125.2576
SEQUENCE:3
DTSTAMP:20260423T164340Z
URL:https://business.tooelechamber.com/events/details/chamber-luncheon-10-28-2009-2576
END:VEVENT

END:VCALENDAR
