BEGIN:VCALENDAR
VERSION:2.0
PRODID:-//ChamberMaster//Event Calendar 2.0//EN
METHOD:PUBLISH
X-PUBLISHED-TTL:P3D
REFRESH-INTERVAL:P3D
CALSCALE:GREGORIAN
BEGIN:VEVENT
DTSTART:20111109T200000Z
DTEND:20111109T210000Z
X-MICROSOFT-CDO-ALLDAYEVENT:FALSE
SUMMARY:Chamber Luncheon
DESCRIPTION:Chamber Luncheon \n\n	Wednesday\, November 9\, 2011 from 1-2pm\n\n	Location: Community Learning Center\n\n	211 South Tooele Blvd.\n\n	RSVP REQUIRED BY: Monday\, November 7th by 5pm\n\n	Chamber office 435-882-0690 or chamber@tooelechamber.com\n\n	Sponsored by: \n\n	Department of Workforce Services\n\n	Tooele County Alliance for Education\, Employment and Economic Development\n\n	Tooele County School District\n\n	Tooele Applied Technology College\n\n	Tooele County\n\n	Utah State University   Tooele Regional Campus \n\n	Tooele County Chamber of Commerce and Tourism\n\n	Luncheon made possible by:\n\n	Miller MotorSports Park\n\n	Quality Automotive Group\n\n	Tooele County School District \n\n	TCSD Education Foundation\n\n	Utah State University
X-ALT-DESC;FMTTYPE=text/html:<p style="text-align: center">\n	<span style="font-size: 22px"><span style="font-family: times new roman"><u><strong>Chamber Luncheon </strong></u><br />\n	Wednesday\, November 9\, 2011 from 1-2pm<br />\n	Location: Community Learning Center<br />\n	211 South Tooele Blvd.<br />\n	RSVP REQUIRED BY: Monday\, November 7th by 5pm<br />\n	Chamber office 435-882-0690 or <a href="mailto:chamber@tooelechamber.com">chamber@tooelechamber.com</a></span></span><br />\n	<font color="#000000" face="Times New Roman" size="3">Sponsored by:</font><font color="#000000" face="Times New Roman" size="3">&nbsp\;</font><br />\n	<font color="#000000" face="Times New Roman" size="3">Department of Workforce Services</font><br />\n	<font size="3"><font color="#000000"><font face="Times New Roman"><st1:placename w:st="on">Tooele</st1:placename> <st1:placetype w:st="on">County</st1:placetype> <st1:place w:st="on"><st1:city w:st="on">Alliance</st1:city></st1:place> for Education\, Employment and Economic Development</font></font></font><br />\n	<st1:place w:st="on"><font size="3"><font color="#000000"><font face="Times New Roman"><st1:placename w:st="on">Tooele</st1:placename> <st1:placetype w:st="on">County</st1:placetype> <st1:placetype w:st="on">School District</st1:placetype></font></font></font></st1:place><br />\n	<font size="3"><font color="#000000"><font face="Times New Roman">Tooele Applied <st1:place w:st="on"><st1:placename w:st="on">Technology</st1:placename> <st1:placetype w:st="on">College</st1:placetype></st1:place></font></font></font><br />\n	<st1:place w:st="on"><font size="3"><font color="#000000"><font face="Times New Roman"><st1:placename w:st="on">Tooele</st1:placename> <st1:placetype w:st="on">County</st1:placetype></font></font></font></st1:place><br />\n	<font size="3"><font color="#000000"><font face="Times New Roman"><st1:place w:st="on"><st1:placename w:st="on">Utah</st1:placename> <st1:placetype w:st="on">State</st1:placetype> <st1:placetype w:st="on">University</st1:placetype></st1:place> &ndash\; Tooele Regional Campus </font></font></font><br />\n	<font size="3"><font color="#000000"><font face="Times New Roman"><st1:place w:st="on"><st1:placename w:st="on">Tooele</st1:placename> <st1:placetype w:st="on">County</st1:placetype></st1:place> Chamber of Commerce and Tourism<br />\n	<strong><u><font color="#000000" face="Times New Roman" size="3">Luncheon made possible by:</font></u></strong><br />\n	<font color="#000000"><font face="Times New Roman"><st1:place w:st="on"><st1:placename w:st="on"><b style="mso-bidi-font-weight: normal"><span style="font-size: 14pt">Miller</span></b></st1:placename><b style="mso-bidi-font-weight: normal"><span style="font-size: 14pt"> <st1:placename w:st="on">MotorSports</st1:placename> <st1:placetype w:st="on">Park</st1:placetype></span></b></st1:place></font></font><br />\n	<b style="mso-bidi-font-weight: normal"><span style="font-size: 14pt"><font color="#000000"><font face="Times New Roman">Quality Automotive Group</font></font></span></b><br />\n	<font color="#000000"><font face="Times New Roman"><st1:place w:st="on"><st1:placename w:st="on"><b style="mso-bidi-font-weight: normal"><span style="font-size: 14pt">Tooele</span></b></st1:placename><b style="mso-bidi-font-weight: normal"><span style="font-size: 14pt"> <st1:placetype w:st="on">County</st1:placetype> <st1:placetype w:st="on">School District</st1:placetype></span></b></st1:place><b style="mso-bidi-font-weight: normal"><span style="font-size: 14pt"> </span></b></font></font><br />\n	<b style="mso-bidi-font-weight: normal"><span style="font-size: 14pt"><font color="#000000"><font face="Times New Roman">TCSD Education Foundation</font></font></span></b><br />\n	<font color="#000000"><font face="Times New Roman"><st1:place w:st="on"><st1:placename w:st="on"><b style="mso-bidi-font-weight: normal"><span style="font-size: 14pt">Utah</span></b></st1:placename><b style="mso-bidi-font-weight: normal"><span style="font-size: 14pt"> <st1:placetype w:st="on">State</st1:placetype> <st1:placetype w:st="on">University</st1:placetype></span></b></st1:place><b style="mso-bidi-font-weight: normal"><span style="font-size: 14pt"> <span _fck_bookmark="1" style="display: none">&nbsp\;</span></span></b></font></font></font></font></font></p>\n<p class="MsoNormal" style="margin: 0in 0in 0pt">\n	<br />\n	<font size="3"><font color="#000000"><font face="Times New Roman"><span _fck_bookmark="1" style="display: none">&nbsp\;</span></font></font></font></p>\n
LOCATION:
UID:e.125.3888
SEQUENCE:3
DTSTAMP:20260422T011727Z
URL:https://business.tooelechamber.com/events/details/chamber-luncheon-11-09-2011-3888
END:VEVENT

END:VCALENDAR
