BEGIN:VCALENDAR
VERSION:2.0
PRODID:-//ChamberMaster//Event Calendar 2.0//EN
METHOD:PUBLISH
X-PUBLISHED-TTL:P3D
REFRESH-INTERVAL:P3D
CALSCALE:GREGORIAN
BEGIN:VEVENT
DTSTART;VALUE=DATE:20081206
DTEND;VALUE=DATE:20081207
TRANSP:TRANSPARENT
X-MICROSOFT-CDO-ALLDAYEVENT:TRUE
SUMMARY:Chamber of Commerce Christmas Parade Tooele
DESCRIPTION:Chamber of Commerce Annual Christmas Parade
X-ALT-DESC;FMTTYPE=text/html:<div>Chamber of Commerce Annual Christmas Parade</div>
LOCATION:
UID:e.125.218
SEQUENCE:3
DTSTAMP:20260424T102950Z
URL:https://business.tooelechamber.com/events/details/chamber-of-commerce-christmas-parade-tooele-12-06-2008-218
END:VEVENT

END:VCALENDAR
