BEGIN:VCALENDAR
VERSION:2.0
PRODID:-//ChamberMaster//Event Calendar 2.0//EN
METHOD:PUBLISH
X-PUBLISHED-TTL:P3D
REFRESH-INTERVAL:P3D
CALSCALE:GREGORIAN
BEGIN:VEVENT
DTSTART;VALUE=DATE:20111125
DTEND;VALUE=DATE:20111126
TRANSP:TRANSPARENT
X-MICROSOFT-CDO-ALLDAYEVENT:TRUE
SUMMARY:Chamber Office Closed
DESCRIPTION:Chamber Office Closed\n\n	for Thanksgiving Holiday!
X-ALT-DESC;FMTTYPE=text/html:<p style="text-align: center">\n	<span style="font-size: 28px">Chamber Office Closed<br />\n	for Thanksgiving Holiday!</span></p>\n
LOCATION:
UID:e.125.3892
SEQUENCE:3
DTSTAMP:20260422T013508Z
URL:https://business.tooelechamber.com/events/details/chamber-office-closed-11-25-2011-3892
END:VEVENT

END:VCALENDAR
