BEGIN:VCALENDAR
VERSION:2.0
PRODID:-//ChamberMaster//Event Calendar 2.0//EN
METHOD:PUBLISH
X-PUBLISHED-TTL:P3D
REFRESH-INTERVAL:P3D
CALSCALE:GREGORIAN
BEGIN:VEVENT
DTSTART;VALUE=DATE:20121112
DTEND;VALUE=DATE:20121113
TRANSP:TRANSPARENT
X-MICROSOFT-CDO-ALLDAYEVENT:TRUE
SUMMARY:Chambers Closed for the Holiday
DESCRIPTION:Chamber Closed for the Holiday\n\nVeterans Day
X-ALT-DESC;FMTTYPE=text/html:<strong><span style="font-size: 20px">Chamber Closed for the Holiday<br />\nVeterans Day</span></strong>
LOCATION:
UID:e.125.4729
SEQUENCE:3
DTSTAMP:20260421T051935Z
URL:https://business.tooelechamber.com/events/details/chambers-closed-for-the-holiday-11-12-2012-4729
END:VEVENT

END:VCALENDAR
