BEGIN:VCALENDAR
VERSION:2.0
PRODID:-//ChamberMaster//Event Calendar 2.0//EN
METHOD:PUBLISH
X-PUBLISHED-TTL:P3D
REFRESH-INTERVAL:P3D
CALSCALE:GREGORIAN
BEGIN:VEVENT
DTSTART:20100528T140000Z
DTEND:20100528T180000Z
X-MICROSOFT-CDO-ALLDAYEVENT:FALSE
SUMMARY:Children's Justice Center Golf Tournament
DESCRIPTION:The Chlidren's Justice Center Golf TournamentOquirrh Hills Golf Course 1255 East Vine Street May 28th\, 2010Check in @ 7:00/ Tee Off @ 8:00$50/Person$200/Team of 4 *Sign up by Friday May 21st*All proceeds will benefit the Tooele County Children's Justice Center
X-ALT-DESC;FMTTYPE=text/html:<div style="text-align: center"><strong><u><span style="font-size: large">The Chlidren's Justice Center </span></u></strong></div><div style="text-align: center"><strong><u><span style="font-size: large">Golf Tournament</span></u></strong></div><div style="text-align: center"><span style="font-size: medium"><span style="font-family: Comic Sans MS">Oquirrh Hills Golf Course </span></span></div><div style="text-align: center"><span style="font-size: medium"><span style="font-family: Comic Sans MS">1255 East Vine Street </span></span></div><div style="text-align: center"><span style="font-size: medium"><span style="font-family: Comic Sans MS">May 28th\, 2010</span></span></div><div style="text-align: center"><span style="font-size: medium"><span style="font-family: Comic Sans MS">Check in @ 7:00/ Tee Off @ 8:00</span></span></div><div style="text-align: center"><span style="font-size: medium"><span style="font-family: Comic Sans MS">$50/Person</span></span></div><div style="text-align: center"><span style="font-size: medium"><span style="font-family: Comic Sans MS">$200/Team of 4</span></span></div><div style="text-align: center">&nbsp\;</div><div style="text-align: center"><strong><u><span style="font-size: medium"><span style="font-family: Comic Sans MS">*Sign up by Friday May 21st*</span></span></u></strong></div><div style="text-align: center"><span style="font-size: medium"><span style="font-family: Comic Sans MS">All proceeds will benefit the </span></span></div><div style="text-align: center"><span style="font-size: medium"><span style="font-family: Comic Sans MS">Tooele County Children's Justice Center</span></span></div>
LOCATION:
UID:e.125.3114
SEQUENCE:3
DTSTAMP:20260423T062637Z
URL:https://business.tooelechamber.com/events/details/children-s-justice-center-golf-tournament-05-28-2010-3114
END:VEVENT

END:VCALENDAR
